BEGIN:VCALENDAR
VERSION:2.0
PRODID:-//Rhine-Mosel-Squeezers - ECPv6.3.7//NONSGML v1.0//EN
CALSCALE:GREGORIAN
METHOD:PUBLISH
X-ORIGINAL-URL:https://rhine-mosel-squeezers.de
X-WR-CALDESC:Veranstaltungen für Rhine-Mosel-Squeezers
REFRESH-INTERVAL;VALUE=DURATION:PT1H
X-Robots-Tag:noindex
X-PUBLISHED-TTL:PT1H
BEGIN:VTIMEZONE
TZID:Europe/Berlin
BEGIN:DAYLIGHT
TZOFFSETFROM:+0100
TZOFFSETTO:+0200
TZNAME:CEST
DTSTART:20260329T010000
END:DAYLIGHT
BEGIN:STANDARD
TZOFFSETFROM:+0200
TZOFFSETTO:+0100
TZNAME:CET
DTSTART:20261025T010000
END:STANDARD
END:VTIMEZONE
BEGIN:VEVENT
DTSTART;TZID=Europe/Berlin:20261002T193000
DTEND;TZID=Europe/Berlin:20261002T220000
DTSTAMP:20260426T022840
CREATED:20260202T094606Z
LAST-MODIFIED:20260204T092250Z
UID:7343-1790969400-1790978400@rhine-mosel-squeezers.de
SUMMARY:MS alt  /  Plus alt     mit   Dieter
DESCRIPTION:
URL:https://rhine-mosel-squeezers.de/event/plusclass-und-plus-mit-dieter-5/
LOCATION:Grundschule Neukarthause\, Zwickauer Str. 23\, 56075\, Koblenz\, Deutschland
END:VEVENT
BEGIN:VEVENT
DTSTART;TZID=Europe/Berlin:20261009T193000
DTEND;TZID=Europe/Berlin:20261009T220000
DTSTAMP:20260426T022840
CREATED:20260202T094715Z
LAST-MODIFIED:20260223T134908Z
UID:7345-1791574200-1791583200@rhine-mosel-squeezers.de
SUMMARY:MS alt  /  Plus alt    mit  Torsten S.
DESCRIPTION:
URL:https://rhine-mosel-squeezers.de/event/plusclass-und-plus-mit-thomas-g-9/
LOCATION:Grundschule Neukarthause\, Zwickauer Str. 23\, 56075\, Koblenz\, Deutschland
END:VEVENT
BEGIN:VEVENT
DTSTART;TZID=Europe/Berlin:20261011T100000
DTEND;TZID=Europe/Berlin:20261011T123000
DTSTAMP:20260426T022840
CREATED:20260202T094814Z
LAST-MODIFIED:20260202T094814Z
UID:7347-1791712800-1791721800@rhine-mosel-squeezers.de
SUMMARY:A   mit  eCaller  ?
DESCRIPTION:
URL:https://rhine-mosel-squeezers.de/event/a-mit-ecaller-7/
LOCATION:Grundschule Neukarthause\, Zwickauer Str. 23\, 56075\, Koblenz\, Deutschland
END:VEVENT
BEGIN:VEVENT
DTSTART;TZID=Europe/Berlin:20261016T193000
DTEND;TZID=Europe/Berlin:20261016T220000
DTSTAMP:20260426T022840
CREATED:20260202T094907Z
LAST-MODIFIED:20260204T092418Z
UID:7349-1792179000-1792188000@rhine-mosel-squeezers.de
SUMMARY:MS alt  /  Plus alt     mit   Annette
DESCRIPTION:
URL:https://rhine-mosel-squeezers.de/event/plusclass-und-plus-mit-annette-6/
LOCATION:Grundschule Neukarthause\, Zwickauer Str. 23\, 56075\, Koblenz\, Deutschland
END:VEVENT
BEGIN:VEVENT
DTSTART;TZID=Europe/Berlin:20261023T193000
DTEND;TZID=Europe/Berlin:20261023T220000
DTSTAMP:20260426T022840
CREATED:20260202T095038Z
LAST-MODIFIED:20260204T092453Z
UID:7351-1792783800-1792792800@rhine-mosel-squeezers.de
SUMMARY:MS alt  /  Plus alt     mit Osz
DESCRIPTION:
URL:https://rhine-mosel-squeezers.de/event/plusclass-und-plus-mit-osz-2/
LOCATION:Grundschule Neukarthause\, Zwickauer Str. 23\, 56075\, Koblenz\, Deutschland
END:VEVENT
BEGIN:VEVENT
DTSTART;TZID=Europe/Berlin:20261024T140000
DTEND;TZID=Europe/Berlin:20261024T170000
DTSTAMP:20260426T022840
CREATED:20260202T095138Z
LAST-MODIFIED:20260204T094201Z
UID:7353-1792850400-1792861200@rhine-mosel-squeezers.de
SUMMARY:VC  MS / Plus    Workshop  mit Osz
DESCRIPTION:
URL:https://rhine-mosel-squeezers.de/event/vc-workshop-mit-osz/
END:VEVENT
BEGIN:VEVENT
DTSTART;TZID=Europe/Berlin:20261025T100000
DTEND;TZID=Europe/Berlin:20261025T123000
DTSTAMP:20260426T022840
CREATED:20260202T095222Z
LAST-MODIFIED:20260202T095222Z
UID:7355-1792922400-1792931400@rhine-mosel-squeezers.de
SUMMARY:A  mit   Annette
DESCRIPTION:
URL:https://rhine-mosel-squeezers.de/event/a-mit-annette-2/
LOCATION:Grundschule Neukarthause\, Zwickauer Str. 23\, 56075\, Koblenz\, Deutschland
END:VEVENT
BEGIN:VEVENT
DTSTART;TZID=Europe/Berlin:20261030T193000
DTEND;TZID=Europe/Berlin:20261030T220000
DTSTAMP:20260426T022840
CREATED:20260202T095322Z
LAST-MODIFIED:20260204T092530Z
UID:7357-1793388600-1793397600@rhine-mosel-squeezers.de
SUMMARY:MS alt  /  Plus alt   mit Martin P
DESCRIPTION:
URL:https://rhine-mosel-squeezers.de/event/plusclass-und-plus-mit-martin-p/
LOCATION:Grundschule Neukarthause\, Zwickauer Str. 23\, 56075\, Koblenz\, Deutschland
END:VEVENT
END:VCALENDAR