BEGIN:VCALENDAR
VERSION:2.0
PRODID:-//Rhine-Mosel-Squeezers - ECPv6.3.7//NONSGML v1.0//EN
CALSCALE:GREGORIAN
METHOD:PUBLISH
X-ORIGINAL-URL:https://rhine-mosel-squeezers.de
X-WR-CALDESC:Veranstaltungen für Rhine-Mosel-Squeezers
REFRESH-INTERVAL;VALUE=DURATION:PT1H
X-Robots-Tag:noindex
X-PUBLISHED-TTL:PT1H
BEGIN:VTIMEZONE
TZID:Europe/Berlin
BEGIN:DAYLIGHT
TZOFFSETFROM:+0100
TZOFFSETTO:+0200
TZNAME:CEST
DTSTART:20260329T010000
END:DAYLIGHT
BEGIN:STANDARD
TZOFFSETFROM:+0200
TZOFFSETTO:+0100
TZNAME:CET
DTSTART:20261025T010000
END:STANDARD
END:VTIMEZONE
BEGIN:VEVENT
DTSTART;TZID=Europe/Berlin:20260904T193000
DTEND;TZID=Europe/Berlin:20260904T220000
DTSTAMP:20260426T010649
CREATED:20260202T093324Z
LAST-MODIFIED:20260204T091936Z
UID:7326-1788550200-1788559200@rhine-mosel-squeezers.de
SUMMARY:MS alt  /  Plus alt     mit   Dieter
DESCRIPTION:
URL:https://rhine-mosel-squeezers.de/event/plusclass-und-plus-mit-dieter-4/
LOCATION:Grundschule Neukarthause\, Zwickauer Str. 23\, 56075\, Koblenz\, Deutschland
END:VEVENT
BEGIN:VEVENT
DTSTART;TZID=Europe/Berlin:20260911T193000
DTEND;TZID=Europe/Berlin:20260911T220000
DTSTAMP:20260426T010649
CREATED:20260202T093422Z
LAST-MODIFIED:20260204T092017Z
UID:7328-1789155000-1789164000@rhine-mosel-squeezers.de
SUMMARY:MS alt  /  Plus alt    mit  Annette
DESCRIPTION:
URL:https://rhine-mosel-squeezers.de/event/plusclass-und-plus-mit-annette-5/
LOCATION:Grundschule Neukarthause\, Zwickauer Str. 23\, 56075\, Koblenz\, Deutschland
END:VEVENT
BEGIN:VEVENT
DTSTART;TZID=Europe/Berlin:20260913T100000
DTEND;TZID=Europe/Berlin:20260913T123000
DTSTAMP:20260426T010649
CREATED:20260202T093529Z
LAST-MODIFIED:20260202T093529Z
UID:7330-1789293600-1789302600@rhine-mosel-squeezers.de
SUMMARY:A / Plus-Weiterbildung   mit    Martin P
DESCRIPTION:
URL:https://rhine-mosel-squeezers.de/event/a-plus-weiterbildung-mit-martin-p/
LOCATION:Grundschule Neukarthause\, Zwickauer Str. 23\, 56075\, Koblenz\, Deutschland
END:VEVENT
BEGIN:VEVENT
DTSTART;TZID=Europe/Berlin:20260918T193000
DTEND;TZID=Europe/Berlin:20260918T220000
DTSTAMP:20260426T010649
CREATED:20260202T093716Z
LAST-MODIFIED:20260204T092107Z
UID:7332-1789759800-1789768800@rhine-mosel-squeezers.de
SUMMARY:VC  MS alt / Plus alt     mit    Dieter   (Helfer: vorher Aufbau)
DESCRIPTION:
URL:https://rhine-mosel-squeezers.de/event/plusclass-und-plus-mit-dieter-helfer-vorher-aufbau/
LOCATION:Bürgerhalle Andernach\, Plaidter Str. 29\, 56656 Andernach
END:VEVENT
BEGIN:VEVENT
DTSTART;TZID=Europe/Berlin:20260919T120000
DTEND;TZID=Europe/Berlin:20260919T120000
DTSTAMP:20260426T010649
CREATED:20260202T094014Z
LAST-MODIFIED:20260202T094101Z
UID:7334-1789819200-1789819200@rhine-mosel-squeezers.de
SUMMARY:30 Jahre RMS     mit   Stefan Förster und  MC Dieter Bremm
DESCRIPTION:
URL:https://rhine-mosel-squeezers.de/event/30-jahre-rms-mit-stefan-foerster-und-mc-dieter-bremm/
LOCATION:Bürgerhalle Andernach\, Plaidter Str. 29\, 56656 Andernach
END:VEVENT
BEGIN:VEVENT
DTSTART;TZID=Europe/Berlin:20260920T000000
DTEND;TZID=Europe/Berlin:20260920T000000
DTSTAMP:20260426T010649
CREATED:20260202T094316Z
LAST-MODIFIED:20260202T094316Z
UID:7337-1789862400-1789862400@rhine-mosel-squeezers.de
SUMMARY:Helfer  - Abbau Special
DESCRIPTION:
URL:https://rhine-mosel-squeezers.de/event/helfer-abbau-special/
LOCATION:Bürgerhalle Andernach\, Plaidter Str. 29\, 56656 Andernach
END:VEVENT
BEGIN:VEVENT
DTSTART;TZID=Europe/Berlin:20260925T193000
DTEND;TZID=Europe/Berlin:20260925T220000
DTSTAMP:20260426T010649
CREATED:20260202T094421Z
LAST-MODIFIED:20260223T134816Z
UID:7339-1790364600-1790373600@rhine-mosel-squeezers.de
SUMMARY:MS alt  / Plus alt    mit  Torsten S.
DESCRIPTION:
URL:https://rhine-mosel-squeezers.de/event/plusclass-und-plus-mit-thomas-g-8/
LOCATION:Grundschule Neukarthause\, Zwickauer Str. 23\, 56075\, Koblenz\, Deutschland
END:VEVENT
BEGIN:VEVENT
DTSTART;TZID=Europe/Berlin:20260927T100000
DTEND;TZID=Europe/Berlin:20260927T123000
DTSTAMP:20260426T010649
CREATED:20260202T094510Z
LAST-MODIFIED:20260202T094510Z
UID:7341-1790503200-1790512200@rhine-mosel-squeezers.de
SUMMARY:A  mit   eCaller   ?
DESCRIPTION:
URL:https://rhine-mosel-squeezers.de/event/a-mit-ecaller-6/
LOCATION:Grundschule Neukarthause\, Zwickauer Str. 23\, 56075\, Koblenz\, Deutschland
END:VEVENT
END:VCALENDAR