BEGIN:VCALENDAR
VERSION:2.0
PRODID:-//Rhine-Mosel-Squeezers - ECPv6.3.7//NONSGML v1.0//EN
CALSCALE:GREGORIAN
METHOD:PUBLISH
X-ORIGINAL-URL:https://rhine-mosel-squeezers.de
X-WR-CALDESC:Veranstaltungen für Rhine-Mosel-Squeezers
REFRESH-INTERVAL;VALUE=DURATION:PT1H
X-Robots-Tag:noindex
X-PUBLISHED-TTL:PT1H
BEGIN:VTIMEZONE
TZID:Europe/Berlin
BEGIN:DAYLIGHT
TZOFFSETFROM:+0100
TZOFFSETTO:+0200
TZNAME:CEST
DTSTART:20260329T010000
END:DAYLIGHT
BEGIN:STANDARD
TZOFFSETFROM:+0200
TZOFFSETTO:+0100
TZNAME:CET
DTSTART:20261025T010000
END:STANDARD
END:VTIMEZONE
BEGIN:VEVENT
DTSTART;TZID=Europe/Berlin:20260807T193000
DTEND;TZID=Europe/Berlin:20260807T220000
DTSTAMP:20260425T234456
CREATED:20260202T092757Z
LAST-MODIFIED:20260204T091636Z
UID:7314-1786131000-1786140000@rhine-mosel-squeezers.de
SUMMARY:MS alt  /  Plus alt      mit  Wuffi
DESCRIPTION:
URL:https://rhine-mosel-squeezers.de/event/plusclass-und-plus-mit-wuffi/
LOCATION:Grundschule Neukarthause\, Zwickauer Str. 23\, 56075\, Koblenz\, Deutschland
END:VEVENT
BEGIN:VEVENT
DTSTART;TZID=Europe/Berlin:20260809T103000
DTEND;TZID=Europe/Berlin:20260809T130000
DTSTAMP:20260425T234456
CREATED:20260202T092840Z
LAST-MODIFIED:20260202T092840Z
UID:7316-1786271400-1786280400@rhine-mosel-squeezers.de
SUMMARY:A mit  Wuffi
DESCRIPTION:
URL:https://rhine-mosel-squeezers.de/event/a-mit-wuffi/
LOCATION:Grundschule Neukarthause\, Zwickauer Str. 23\, 56075\, Koblenz\, Deutschland
END:VEVENT
BEGIN:VEVENT
DTSTART;TZID=Europe/Berlin:20260814T193000
DTEND;TZID=Europe/Berlin:20260814T220000
DTSTAMP:20260425T234456
CREATED:20260202T092934Z
LAST-MODIFIED:20260223T134747Z
UID:7318-1786735800-1786744800@rhine-mosel-squeezers.de
SUMMARY:MS alt  / Plus alt     mit   Torsten S.
DESCRIPTION:
URL:https://rhine-mosel-squeezers.de/event/plusclass-und-plus-mit-thomas-g-7/
LOCATION:Grundschule Neukarthause\, Zwickauer Str. 23\, 56075\, Koblenz\, Deutschland
END:VEVENT
BEGIN:VEVENT
DTSTART;TZID=Europe/Berlin:20260821T193000
DTEND;TZID=Europe/Berlin:20260821T220000
DTSTAMP:20260425T234456
CREATED:20260202T093022Z
LAST-MODIFIED:20260204T091756Z
UID:7320-1787340600-1787349600@rhine-mosel-squeezers.de
SUMMARY:MS alt  /  Plus alt     mit Ralf B
DESCRIPTION:
URL:https://rhine-mosel-squeezers.de/event/plusclass-und-plus-mit-ralf-b-3/
LOCATION:Grundschule Neukarthause\, Zwickauer Str. 23\, 56075\, Koblenz\, Deutschland
END:VEVENT
BEGIN:VEVENT
DTSTART;TZID=Europe/Berlin:20260823T100000
DTEND;TZID=Europe/Berlin:20260823T123000
DTSTAMP:20260425T234456
CREATED:20260202T093122Z
LAST-MODIFIED:20260202T093122Z
UID:7322-1787479200-1787488200@rhine-mosel-squeezers.de
SUMMARY:A / Plus-Weiterbildung  mit  Dieter
DESCRIPTION:
URL:https://rhine-mosel-squeezers.de/event/a-plus-weiterbildung-mit-dieter-2/
LOCATION:Grundschule Neukarthause\, Zwickauer Str. 23\, 56075\, Koblenz\, Deutschland
END:VEVENT
BEGIN:VEVENT
DTSTART;TZID=Europe/Berlin:20260828T193000
DTEND;TZID=Europe/Berlin:20260828T220000
DTSTAMP:20260425T234456
CREATED:20260202T093219Z
LAST-MODIFIED:20260204T091854Z
UID:7324-1787945400-1787954400@rhine-mosel-squeezers.de
SUMMARY:MS alt  / Plus alt    mit   Arnold  T
DESCRIPTION:
URL:https://rhine-mosel-squeezers.de/event/ms-plusclass-und-plus-mit-arnold-t/
LOCATION:Grundschule Neukarthause\, Zwickauer Str. 23\, 56075\, Koblenz\, Deutschland
END:VEVENT
END:VCALENDAR