BEGIN:VCALENDAR
VERSION:2.0
PRODID:-//Rhine-Mosel-Squeezers - ECPv6.3.7//NONSGML v1.0//EN
CALSCALE:GREGORIAN
METHOD:PUBLISH
X-ORIGINAL-URL:https://rhine-mosel-squeezers.de
X-WR-CALDESC:Veranstaltungen für Rhine-Mosel-Squeezers
REFRESH-INTERVAL;VALUE=DURATION:PT1H
X-Robots-Tag:noindex
X-PUBLISHED-TTL:PT1H
BEGIN:VTIMEZONE
TZID:Europe/Berlin
BEGIN:DAYLIGHT
TZOFFSETFROM:+0100
TZOFFSETTO:+0200
TZNAME:CEST
DTSTART:20260329T010000
END:DAYLIGHT
BEGIN:STANDARD
TZOFFSETFROM:+0200
TZOFFSETTO:+0100
TZNAME:CET
DTSTART:20261025T010000
END:STANDARD
END:VTIMEZONE
BEGIN:VEVENT
DTSTART;TZID=Europe/Berlin:20260703T193000
DTEND;TZID=Europe/Berlin:20260703T220000
DTSTAMP:20260425T221959
CREATED:20260202T092139Z
LAST-MODIFIED:20260204T091235Z
UID:7300-1783107000-1783116000@rhine-mosel-squeezers.de
SUMMARY:MS alt  /  Plus  alt     mit  Dieter
DESCRIPTION:
URL:https://rhine-mosel-squeezers.de/event/plusclass-und-plus-mit-dieter-3/
LOCATION:Grundschule Neukarthause\, Zwickauer Str. 23\, 56075\, Koblenz\, Deutschland
END:VEVENT
BEGIN:VEVENT
DTSTART;TZID=Europe/Berlin:20260710T193000
DTEND;TZID=Europe/Berlin:20260710T200000
DTSTAMP:20260425T221959
CREATED:20260202T092238Z
LAST-MODIFIED:20260204T091319Z
UID:7302-1783711800-1783713600@rhine-mosel-squeezers.de
SUMMARY:MS alt  /  Plus alt   mit Torsten
DESCRIPTION:
URL:https://rhine-mosel-squeezers.de/event/plusclass-und-plus-mit-torsten-3/
LOCATION:Grundschule Neukarthause\, Zwickauer Str. 23\, 56075\, Koblenz\, Deutschland
END:VEVENT
BEGIN:VEVENT
DTSTART;TZID=Europe/Berlin:20260712T100000
DTEND;TZID=Europe/Berlin:20260712T123000
DTSTAMP:20260425T221959
CREATED:20260202T092334Z
LAST-MODIFIED:20260202T092334Z
UID:7304-1783850400-1783859400@rhine-mosel-squeezers.de
SUMMARY:A / Plus-Weiterbildung   mit  Dieter
DESCRIPTION:
URL:https://rhine-mosel-squeezers.de/event/a-plus-weiterbildung-mit-dieter/
LOCATION:Grundschule Neukarthause\, Zwickauer Str. 23\, 56075\, Koblenz\, Deutschland
END:VEVENT
BEGIN:VEVENT
DTSTART;TZID=Europe/Berlin:20260717T193000
DTEND;TZID=Europe/Berlin:20260717T220000
DTSTAMP:20260425T221959
CREATED:20260202T092440Z
LAST-MODIFIED:20260222T145219Z
UID:7306-1784316600-1784325600@rhine-mosel-squeezers.de
SUMMARY:MS alt  /  Plus alt    mit  Martin P.
DESCRIPTION:
URL:https://rhine-mosel-squeezers.de/event/plusclass-und-plus-mit-thomas-g-6/
LOCATION:Grundschule Neukarthause\, Zwickauer Str. 23\, 56075\, Koblenz\, Deutschland
END:VEVENT
BEGIN:VEVENT
DTSTART;TZID=Europe/Berlin:20260724T193000
DTEND;TZID=Europe/Berlin:20260724T220000
DTSTAMP:20260425T221959
CREATED:20260202T092535Z
LAST-MODIFIED:20260204T091512Z
UID:7308-1784921400-1784930400@rhine-mosel-squeezers.de
SUMMARY:MS alt  /  Plus alt    mit Ralf B
DESCRIPTION:
URL:https://rhine-mosel-squeezers.de/event/plusclass-und-plus-mit-ralf-b-2/
LOCATION:Grundschule Neukarthause\, Zwickauer Str. 23\, 56075\, Koblenz\, Deutschland
END:VEVENT
BEGIN:VEVENT
DTSTART;TZID=Europe/Berlin:20260726T100000
DTEND;TZID=Europe/Berlin:20260726T123000
DTSTAMP:20260425T221959
CREATED:20260202T092620Z
LAST-MODIFIED:20260224T102210Z
UID:7310-1785060000-1785069000@rhine-mosel-squeezers.de
SUMMARY:A   mit   eCaller
DESCRIPTION:
URL:https://rhine-mosel-squeezers.de/event/a-mit-annette/
LOCATION:Grundschule Neukarthause\, Zwickauer Str. 23\, 56075\, Koblenz\, Deutschland
END:VEVENT
BEGIN:VEVENT
DTSTART;TZID=Europe/Berlin:20260731T193000
DTEND;TZID=Europe/Berlin:20260731T220000
DTSTAMP:20260425T221959
CREATED:20260202T092709Z
LAST-MODIFIED:20260204T091554Z
UID:7312-1785526200-1785535200@rhine-mosel-squeezers.de
SUMMARY:MS alt  /  Plus alt   mit Annette
DESCRIPTION:
URL:https://rhine-mosel-squeezers.de/event/plusclass-und-plus-mit-annette-4/
LOCATION:Grundschule Neukarthause\, Zwickauer Str. 23\, 56075\, Koblenz\, Deutschland
END:VEVENT
END:VCALENDAR