BEGIN:VCALENDAR
VERSION:2.0
PRODID:-//Rhine-Mosel-Squeezers - ECPv6.3.7//NONSGML v1.0//EN
CALSCALE:GREGORIAN
METHOD:PUBLISH
X-ORIGINAL-URL:https://rhine-mosel-squeezers.de
X-WR-CALDESC:Veranstaltungen für Rhine-Mosel-Squeezers
REFRESH-INTERVAL;VALUE=DURATION:PT1H
X-Robots-Tag:noindex
X-PUBLISHED-TTL:PT1H
BEGIN:VTIMEZONE
TZID:Europe/Berlin
BEGIN:DAYLIGHT
TZOFFSETFROM:+0100
TZOFFSETTO:+0200
TZNAME:CEST
DTSTART:20260329T010000
END:DAYLIGHT
BEGIN:STANDARD
TZOFFSETFROM:+0200
TZOFFSETTO:+0100
TZNAME:CET
DTSTART:20261025T010000
END:STANDARD
END:VTIMEZONE
BEGIN:VEVENT
DTSTART;TZID=Europe/Berlin:20261024T140000
DTEND;TZID=Europe/Berlin:20261024T170000
DTSTAMP:20260426T034709
CREATED:20260202T095138Z
LAST-MODIFIED:20260204T094201Z
UID:7353-1792850400-1792861200@rhine-mosel-squeezers.de
SUMMARY:VC  MS / Plus    Workshop  mit Osz
DESCRIPTION:
URL:https://rhine-mosel-squeezers.de/event/vc-workshop-mit-osz/
END:VEVENT
END:VCALENDAR