BEGIN:VCALENDAR
VERSION:2.0
PRODID:-//Rhine-Mosel-Squeezers - ECPv6.3.7//NONSGML v1.0//EN
CALSCALE:GREGORIAN
METHOD:PUBLISH
X-WR-CALNAME:Rhine-Mosel-Squeezers
X-ORIGINAL-URL:https://rhine-mosel-squeezers.de
X-WR-CALDESC:Veranstaltungen für Rhine-Mosel-Squeezers
REFRESH-INTERVAL;VALUE=DURATION:PT1H
X-Robots-Tag:noindex
X-PUBLISHED-TTL:PT1H
BEGIN:VTIMEZONE
TZID:Europe/Berlin
BEGIN:DAYLIGHT
TZOFFSETFROM:+0100
TZOFFSETTO:+0200
TZNAME:CEST
DTSTART:20260329T010000
END:DAYLIGHT
BEGIN:STANDARD
TZOFFSETFROM:+0200
TZOFFSETTO:+0100
TZNAME:CET
DTSTART:20261025T010000
END:STANDARD
END:VTIMEZONE
BEGIN:VEVENT
DTSTART;VALUE=DATE:20260502
DTEND;VALUE=DATE:20260503
DTSTAMP:20260425T180913
CREATED:20251122T170840Z
LAST-MODIFIED:20251122T174907Z
UID:7215-1777680000-1777766399@rhine-mosel-squeezers.de
SUMMARY:Tanz auf dem Vulkan   Strohn
DESCRIPTION:
URL:https://rhine-mosel-squeezers.de/event/special-tanz-auf-dem-vulkan/
END:VEVENT
END:VCALENDAR